BEGIN:VCALENDAR
VERSION:2.0
PRODID:-//Tukios.com/
BEGIN:VEVENT
UID:bb339e3f-39f4-42e7-8e41-e21540ea2c05@www.greenefuneral.com
DTSTAMP:20260425T014550Z
DTSTART:20260427T170000Z
DTEND:20260427T180000Z
SUMMARY:Visitation
DESCRIPTION:
URL:https://www.greenefuneral.com/obituaries/mary-fain
LOCATION:Ridge Baptist Church 3818 Old York Road  Gastonia NC 28056
GEO:35.2095153;-81.2019097
END:VEVENT
END:VCALENDAR