BEGIN:VCALENDAR
VERSION:2.0
PRODID:-//Tukios.com/
BEGIN:VEVENT
UID:47b3b756-da5f-4e3d-bb49-6985c61e0c73@www.greenefuneral.com
DTSTAMP:20260425T014027Z
DTSTART:20260427T180000Z
DTEND:20260427T190000Z
SUMMARY:Memorial Service
DESCRIPTION:
URL:https://www.greenefuneral.com/obituaries/mary-fain
LOCATION:Ridge Baptist Church 3818 Old York Road  Gastonia NC 28056
GEO:35.2095153;-81.2019097
END:VEVENT
END:VCALENDAR