BEGIN:VCALENDAR
VERSION:2.0
PRODID:-//Tukios.com/
BEGIN:VEVENT
UID:677e882f-78f4-44a9-8ee7-b437d7049ee3@www.greenefuneral.com
DTSTAMP:20260425T182640Z
DTSTART:20260427T210000Z
DTEND:20260427T230000Z
SUMMARY:Visitation
DESCRIPTION:
URL:https://www.greenefuneral.com/obituaries/joseph-davidson
LOCATION:Greene Funeral Service South Chapel 1503 S York Rd  Gastonia NC 
	28052
GEO:35.243646;-81.1939032
END:VEVENT
END:VCALENDAR